BEGIN:VCALENDAR
VERSION:2.0
PRODID:-//The Church in Dunn Loring - ECPv6.6.4.2//NONSGML v1.0//EN
CALSCALE:GREGORIAN
METHOD:PUBLISH
X-WR-CALNAME:The Church in Dunn Loring
X-ORIGINAL-URL:https://churchindunnloring.org
X-WR-CALDESC:Events for The Church in Dunn Loring
REFRESH-INTERVAL;VALUE=DURATION:PT1H
X-Robots-Tag:noindex
X-PUBLISHED-TTL:PT1H
BEGIN:VTIMEZONE
TZID:America/New_York
BEGIN:DAYLIGHT
TZOFFSETFROM:-0500
TZOFFSETTO:-0400
TZNAME:EDT
DTSTART:20260308T070000
END:DAYLIGHT
BEGIN:STANDARD
TZOFFSETFROM:-0400
TZOFFSETTO:-0500
TZNAME:EST
DTSTART:20261101T060000
END:STANDARD
END:VTIMEZONE
BEGIN:VEVENT
DTSTART;TZID=America/New_York:20260118T180000
DTEND;TZID=America/New_York:20260118T203000
DTSTAMP:20260422T041224
CREATED:20260109T211621Z
LAST-MODIFIED:20260109T212809Z
UID:8498-1768759200-1768768200@churchindunnloring.org
SUMMARY:Regional YP Meeting
DESCRIPTION:There will be a regional YP meeting with the visiting FTTA trainees on Lord’s Day\, 1/18/26\, starting with dinner at 6:00 PM.
URL:https://churchindunnloring.org/event/regional-yp-meeting-3/
LOCATION:Church in Dunn Loring\, 2317 Morgan Lane\, Dunn Loring\, VA\, 22027\, United States
CATEGORIES:Children/YP/College
END:VEVENT
BEGIN:VEVENT
DTSTART;VALUE=DATE:20260227
DTEND;VALUE=DATE:20260302
DTSTAMP:20260422T041224
CREATED:20260109T211458Z
LAST-MODIFIED:20260109T211458Z
UID:8496-1772150400-1772409599@churchindunnloring.org
SUMMARY:2026 Mid-Atlantic Spring College Conference
DESCRIPTION:
URL:https://churchindunnloring.org/event/2026-ma-spring-college-conference/
LOCATION:Skycroft Conference Center\, 9621 Frostown Rd\, Middletown\, MD\, United States
CATEGORIES:Children/YP/College
END:VEVENT
BEGIN:VEVENT
DTSTART;VALUE=DATE:20260410
DTEND;VALUE=DATE:20260413
DTSTAMP:20260422T041224
CREATED:20260109T211723Z
LAST-MODIFIED:20260109T211723Z
UID:8500-1775779200-1776038399@churchindunnloring.org
SUMMARY:2026 Spring YP Conference
DESCRIPTION:
URL:https://churchindunnloring.org/event/2026-spring-yp-conference/
LOCATION:Skycroft Conference Center\, 9621 Frostown Rd\, Middletown\, MD\, United States
CATEGORIES:Children/YP/College
END:VEVENT
BEGIN:VEVENT
DTSTART;VALUE=DATE:20260508
DTEND;VALUE=DATE:20260511
DTSTAMP:20260422T041224
CREATED:20260207T143626Z
LAST-MODIFIED:20260207T143626Z
UID:8571-1778198400-1778457599@churchindunnloring.org
SUMMARY:2026 Gospel Camp
DESCRIPTION:
URL:https://churchindunnloring.org/event/2026-gospel-camp/
LOCATION:Camp Wabanna\, 101 Likes Rd.\, Edgewater\, MD\, 21037\, United States
CATEGORIES:Children/YP/College
END:VEVENT
BEGIN:VEVENT
DTSTART;TZID=America/New_York:20260727T200000
DTEND;TZID=America/New_York:20260802T120000
DTSTAMP:20260422T041224
CREATED:20260109T213257Z
LAST-MODIFIED:20260201T234038Z
UID:8518-1785182400-1785672000@churchindunnloring.org
SUMMARY:2026 Mid-Atlantic Summer School of Truth
DESCRIPTION:Location: Beltsville\, MD
URL:https://churchindunnloring.org/event/2026-ma-sst/
LOCATION:VA
CATEGORIES:Children/YP/College
END:VEVENT
BEGIN:VEVENT
DTSTART;VALUE=DATE:20260918
DTEND;VALUE=DATE:20260921
DTSTAMP:20260422T041224
CREATED:20260109T212641Z
LAST-MODIFIED:20260109T212641Z
UID:8516-1789689600-1789948799@churchindunnloring.org
SUMMARY:2026 Fall YP Conference
DESCRIPTION:
URL:https://churchindunnloring.org/event/2026-fall-yp-conference/
LOCATION:Skycroft Conference Center\, 9621 Frostown Rd\, Middletown\, MD\, United States
CATEGORIES:Children/YP/College
END:VEVENT
END:VCALENDAR